BEGIN:VCALENDAR
VERSION:2.0
PRODID:-//eventon.com NONSGML v1.0//EN
BEGIN:VEVENT
UID:69ece5a924ebe
DTSTAMP:20260425T180249
DTSTART:20220624T190000Z
DTEND:20220626T190000Z
TZID:Europe/Berlin
LOCATION:
SUMMARY:Level 2 – Loving Yourself (2022)
DESCRIPTION: Sich selber lieben: Eine Möglichkeit uns selbst\,  unseren Körper und unser Geschlecht anzunehmen. „Selbst-Verurteilung“ verwandelt sich in liebevolle „Selbst-Akzeptanz“\,  und so befreit können wir die Liebe und unsere Sexualität tiefer erfahren und genießen.\nhttps://liebe-workshop.de/events/level-2-loving-yourself-2022/
URL:https://liebe-workshop.de/events/level-2-loving-yourself-2022/
END:VEVENT
END:VCALENDAR